BEGIN:VCALENDAR
VERSION:2.0
PRODID:-//Leroy&#039;s Place - ECPv6.15.20//NONSGML v1.0//EN
CALSCALE:GREGORIAN
METHOD:PUBLISH
X-ORIGINAL-URL:https://leroysplace.com
X-WR-CALDESC:Events for Leroy&#039;s Place
REFRESH-INTERVAL;VALUE=DURATION:PT1H
X-Robots-Tag:noindex
X-PUBLISHED-TTL:PT1H
BEGIN:VTIMEZONE
TZID:America/New_York
BEGIN:DAYLIGHT
TZOFFSETFROM:-0500
TZOFFSETTO:-0400
TZNAME:EDT
DTSTART:20240310T070000
END:DAYLIGHT
BEGIN:STANDARD
TZOFFSETFROM:-0400
TZOFFSETTO:-0500
TZNAME:EST
DTSTART:20241103T060000
END:STANDARD
BEGIN:DAYLIGHT
TZOFFSETFROM:-0500
TZOFFSETTO:-0400
TZNAME:EDT
DTSTART:20250309T070000
END:DAYLIGHT
BEGIN:STANDARD
TZOFFSETFROM:-0400
TZOFFSETTO:-0500
TZNAME:EST
DTSTART:20251102T060000
END:STANDARD
BEGIN:DAYLIGHT
TZOFFSETFROM:-0500
TZOFFSETTO:-0400
TZNAME:EDT
DTSTART:20260308T070000
END:DAYLIGHT
BEGIN:STANDARD
TZOFFSETFROM:-0400
TZOFFSETTO:-0500
TZNAME:EST
DTSTART:20261101T060000
END:STANDARD
END:VTIMEZONE
BEGIN:VEVENT
DTSTART;TZID=America/New_York:20250508T180000
DTEND;TZID=America/New_York:20250508T233000
DTSTAMP:20260425T093546
CREATED:20250507T010426Z
LAST-MODIFIED:20250507T010453Z
UID:3736-1746727200-1746747000@leroysplace.com
SUMMARY:Leroy's Place at Frechmen Art Bazaar!
DESCRIPTION:Visit Leroy’s Place At Frenchmen Art Bazaar! Come shop all your favorite monster merch\, handmade art\, and quirky treasures. \nWe’re so excited to be back at the Frenchmen Art Bazaar — one of our favorite New Orleans hangs! This open-air night market is packed with amazing local artists\, handmade treasures\, and that signature Frenchmen Street vibe. Come browse\, shop\, and soak up the creative magic.
URL:https://leroysplace.com/event/leroys-place-at-frechmen-art-bazaar-2/
LOCATION:Frenchmen Art Bazaar\, 619 Frenchmen St\, New Orleans\, LA\, 70116\, United States
CATEGORIES:Featured Events,New Orleans
ATTACH;FMTTYPE=image/png:https://leroysplace.com/wp-content/uploads/2025/03/Screen-Shot-2025-03-18-at-3.55.59-PM.png
END:VEVENT
BEGIN:VEVENT
DTSTART;TZID=America/New_York:20250509T180000
DTEND;TZID=America/New_York:20250509T233000
DTSTAMP:20260425T093546
CREATED:20250507T010812Z
LAST-MODIFIED:20250507T011242Z
UID:3739-1746813600-1746833400@leroysplace.com
SUMMARY:Leroy's Place at Frechmen Art Bazaar!
DESCRIPTION:Visit Leroy’s Place At Frenchmen Art Bazaar! Come shop all your favorite monster merch\, handmade art\, and quirky treasures. \nWe’re so excited to be back at the Frenchmen Art Bazaar — one of our favorite New Orleans hangs! This open-air night market is packed with amazing local artists\, handmade treasures\, and that signature Frenchmen Street vibe. Come browse\, shop\, and soak up the creative magic.
URL:https://leroysplace.com/event/leroys-place-at-frechmen-art-bazaar-3/
LOCATION:Frenchmen Art Bazaar\, 619 Frenchmen St\, New Orleans\, LA\, 70116\, United States
CATEGORIES:Featured Events,New Orleans
ATTACH;FMTTYPE=image/png:https://leroysplace.com/wp-content/uploads/2025/03/Screen-Shot-2025-03-18-at-3.55.59-PM.png
END:VEVENT
BEGIN:VEVENT
DTSTART;TZID=America/New_York:20250510T180000
DTEND;TZID=America/New_York:20250510T233000
DTSTAMP:20260425T093546
CREATED:20250507T011138Z
LAST-MODIFIED:20250507T011140Z
UID:3741-1746900000-1746919800@leroysplace.com
SUMMARY:Leroy's Place at Frechmen Art Bazaar!
DESCRIPTION:Visit Leroy’s Place At Frenchmen Art Bazaar! Come shop all your favorite monster merch\, handmade art\, and quirky treasures. \nWe’re so excited to be back at the Frenchmen Art Bazaar — one of our favorite New Orleans hangs! This open-air night market is packed with amazing local artists\, handmade treasures\, and that signature Frenchmen Street vibe. Come browse\, shop\, and soak up the creative magic.
URL:https://leroysplace.com/event/leroys-place-at-frechmen-art-bazaar-4/
LOCATION:Frenchmen Art Bazaar\, 619 Frenchmen St\, New Orleans\, LA\, 70116\, United States
CATEGORIES:Featured Events,New Orleans
ATTACH;FMTTYPE=image/png:https://leroysplace.com/wp-content/uploads/2025/03/Screen-Shot-2025-03-18-at-3.55.59-PM.png
END:VEVENT
BEGIN:VEVENT
DTSTART;TZID=America/New_York:20250516T080000
DTEND;TZID=America/New_York:20250516T233000
DTSTAMP:20260425T093546
CREATED:20250421T170525Z
LAST-MODIFIED:20250423T155611Z
UID:3661-1747382400-1747438200@leroysplace.com
SUMMARY:Fronda Activation at Bayou Bon Vivant Festival – Norfolk\, Virginia
DESCRIPTION:Fronda is hitting the road and heading to the Bayou Bon Vivant Festival in Norfolk\, VA\, for a special appearance. Join us May 16–18 at Town Point Park for a unique Fronda activation and photo-op experience. \nPresented by Norfolk Festevents\, this annual celebration brings the spirit of Louisiana to the Virginia waterfront with live music\, Cajun food\, and a vibrant community atmosphere. Fronda will be part of the festivities\, offering guests a chance to engage with our interactive installation and capture the moment with a photo op!
URL:https://leroysplace.com/event/dj-fronda-at-bayou-bon-vivant-festival-norfolk-virginia/
CATEGORIES:Featured Events,New Orleans
ATTACH;FMTTYPE=image/png:https://leroysplace.com/wp-content/uploads/2025/04/0.png
END:VEVENT
BEGIN:VEVENT
DTSTART;TZID=America/New_York:20250517T080000
DTEND;TZID=America/New_York:20250517T233000
DTSTAMP:20260425T093546
CREATED:20250421T170813Z
LAST-MODIFIED:20250423T155453Z
UID:3664-1747468800-1747524600@leroysplace.com
SUMMARY:Fronda Activation at Bayou Bon Vivant Festival – Norfolk\, Virginia
DESCRIPTION:Fronda is hitting the road and heading to the Bayou Bon Vivant Festival in Norfolk\, VA\, for a special appearance. Join us May 16–18 at Town Point Park for a unique Fronda activation and photo-op experience. \nPresented by Norfolk Festevents\, this annual celebration brings the spirit of Louisiana to the Virginia waterfront with live music\, Cajun food\, and a vibrant community atmosphere. Fronda will be part of the festivities\, offering guests a chance to engage with our interactive installation and capture the moment with a photo op!
URL:https://leroysplace.com/event/dj-fronda-at-bayou-bon-vivant-festival-norfolk-virginia-2/
CATEGORIES:Featured Events,New Orleans
ATTACH;FMTTYPE=image/png:https://leroysplace.com/wp-content/uploads/2025/04/0.png
END:VEVENT
BEGIN:VEVENT
DTSTART;TZID=America/New_York:20250518T080000
DTEND;TZID=America/New_York:20250518T233000
DTSTAMP:20260425T093546
CREATED:20250421T171104Z
LAST-MODIFIED:20250423T155345Z
UID:3667-1747555200-1747611000@leroysplace.com
SUMMARY:Fronda Activation at Bayou Bon Vivant Festival – Norfolk\, Virginia
DESCRIPTION:Fronda is hitting the road and heading to the Bayou Bon Vivant Festival in Norfolk\, VA\, for a special appearance. Join us May 16–18 at Town Point Park for a unique Fronda activation and photo-op experience. \nPresented by Norfolk Festevents\, this annual celebration brings the spirit of Louisiana to the Virginia waterfront with live music\, Cajun food\, and a vibrant community atmosphere. Fronda will be part of the festivities\, offering guests a chance to engage with our interactive installation and capture the moment with a photo op!
URL:https://leroysplace.com/event/dj-fronda-at-bayou-bon-vivant-festival-norfolk-virginia-3/
CATEGORIES:Featured Events,New Orleans
ATTACH;FMTTYPE=image/png:https://leroysplace.com/wp-content/uploads/2025/04/0.png
END:VEVENT
BEGIN:VEVENT
DTSTART;TZID=America/New_York:20250522T180000
DTEND;TZID=America/New_York:20250522T233000
DTSTAMP:20260425T093546
CREATED:20250507T013159Z
LAST-MODIFIED:20250507T013201Z
UID:3747-1747936800-1747956600@leroysplace.com
SUMMARY:Leroy's Place at Frechmen Art Bazaar!
DESCRIPTION:Visit Leroy’s Place At Frenchmen Art Bazaar! Come shop all your favorite monster merch\, handmade art\, and quirky treasures. \nWe’re so excited to be back at the Frenchmen Art Bazaar — one of our favorite New Orleans hangs! This open-air night market is packed with amazing local artists\, handmade treasures\, and that signature Frenchmen Street vibe. Come browse\, shop\, and soak up the creative magic.
URL:https://leroysplace.com/event/leroys-place-at-frechmen-art-bazaar-6/
LOCATION:Frenchmen Art Bazaar\, 619 Frenchmen St\, New Orleans\, LA\, 70116\, United States
CATEGORIES:Featured Events,New Orleans
ATTACH;FMTTYPE=image/png:https://leroysplace.com/wp-content/uploads/2025/03/Screen-Shot-2025-03-18-at-3.55.59-PM.png
END:VEVENT
BEGIN:VEVENT
DTSTART;TZID=America/New_York:20250523T180000
DTEND;TZID=America/New_York:20250523T233000
DTSTAMP:20260425T093546
CREATED:20250507T013404Z
LAST-MODIFIED:20250507T013406Z
UID:3749-1748023200-1748043000@leroysplace.com
SUMMARY:Leroy's Place at Frechmen Art Bazaar!
DESCRIPTION:Visit Leroy’s Place At Frenchmen Art Bazaar! Come shop all your favorite monster merch\, handmade art\, and quirky treasures. \nWe’re so excited to be back at the Frenchmen Art Bazaar — one of our favorite New Orleans hangs! This open-air night market is packed with amazing local artists\, handmade treasures\, and that signature Frenchmen Street vibe. Come browse\, shop\, and soak up the creative magic.
URL:https://leroysplace.com/event/leroys-place-at-frechmen-art-bazaar-7/
LOCATION:Frenchmen Art Bazaar\, 619 Frenchmen St\, New Orleans\, LA\, 70116\, United States
CATEGORIES:Featured Events,New Orleans
ATTACH;FMTTYPE=image/png:https://leroysplace.com/wp-content/uploads/2025/03/Screen-Shot-2025-03-18-at-3.55.59-PM.png
END:VEVENT
BEGIN:VEVENT
DTSTART;TZID=America/New_York:20250524T180000
DTEND;TZID=America/New_York:20250524T233000
DTSTAMP:20260425T093546
CREATED:20250507T013604Z
LAST-MODIFIED:20250507T013605Z
UID:3751-1748109600-1748129400@leroysplace.com
SUMMARY:Leroy's Place at Frechmen Art Bazaar!
DESCRIPTION:Visit Leroy’s Place At Frenchmen Art Bazaar! Come shop all your favorite monster merch\, handmade art\, and quirky treasures. \nWe’re so excited to be back at the Frenchmen Art Bazaar — one of our favorite New Orleans hangs! This open-air night market is packed with amazing local artists\, handmade treasures\, and that signature Frenchmen Street vibe. Come browse\, shop\, and soak up the creative magic.
URL:https://leroysplace.com/event/leroys-place-at-frechmen-art-bazaar-8/
LOCATION:Frenchmen Art Bazaar\, 619 Frenchmen St\, New Orleans\, LA\, 70116\, United States
CATEGORIES:Featured Events,New Orleans
ATTACH;FMTTYPE=image/png:https://leroysplace.com/wp-content/uploads/2025/03/Screen-Shot-2025-03-18-at-3.55.59-PM.png
END:VEVENT
BEGIN:VEVENT
DTSTART;TZID=America/New_York:20250531T160000
DTEND;TZID=America/New_York:20250531T200000
DTSTAMP:20260425T093546
CREATED:20250421T234545Z
LAST-MODIFIED:20250527T174817Z
UID:3669-1748707200-1748721600@leroysplace.com
SUMMARY:Brooklyn Courtyard Party!
DESCRIPTION:Our Brooklyn Courtyard party series is back for the summer\, kicking off with this event that will be one of the only parties of the season! So don’t miss out! \nMusic from  4-8pm \, Free to enter
URL:https://leroysplace.com/event/brooklyn-courtyard-party/
LOCATION:Leroy’s Place\, 353 7th Ave\, Brooklyn\, NY\, 11215\, United States
CATEGORIES:Brooklyn,Featured Events
ATTACH;FMTTYPE=image/png:https://leroysplace.com/wp-content/uploads/2024/07/Screen-Shot-2024-08-19-at-10.42.46-AM.png
END:VEVENT
END:VCALENDAR