BEGIN:VCALENDAR
VERSION:2.0
PRODID:-//Leroy&#039;s Place - ECPv6.15.20//NONSGML v1.0//EN
CALSCALE:GREGORIAN
METHOD:PUBLISH
X-ORIGINAL-URL:https://leroysplace.com
X-WR-CALDESC:Events for Leroy&#039;s Place
REFRESH-INTERVAL;VALUE=DURATION:PT1H
X-Robots-Tag:noindex
X-PUBLISHED-TTL:PT1H
BEGIN:VTIMEZONE
TZID:America/New_York
BEGIN:DAYLIGHT
TZOFFSETFROM:-0500
TZOFFSETTO:-0400
TZNAME:EDT
DTSTART:20250309T070000
END:DAYLIGHT
BEGIN:STANDARD
TZOFFSETFROM:-0400
TZOFFSETTO:-0500
TZNAME:EST
DTSTART:20251102T060000
END:STANDARD
BEGIN:DAYLIGHT
TZOFFSETFROM:-0500
TZOFFSETTO:-0400
TZNAME:EDT
DTSTART:20260308T070000
END:DAYLIGHT
BEGIN:STANDARD
TZOFFSETFROM:-0400
TZOFFSETTO:-0500
TZNAME:EST
DTSTART:20261101T060000
END:STANDARD
BEGIN:DAYLIGHT
TZOFFSETFROM:-0500
TZOFFSETTO:-0400
TZNAME:EDT
DTSTART:20270314T070000
END:DAYLIGHT
BEGIN:STANDARD
TZOFFSETFROM:-0400
TZOFFSETTO:-0500
TZNAME:EST
DTSTART:20271107T060000
END:STANDARD
END:VTIMEZONE
BEGIN:VEVENT
DTSTART;TZID=America/New_York:20260516T110000
DTEND;TZID=America/New_York:20260516T170000
DTSTAMP:20260423T123621
CREATED:20260421T204026Z
LAST-MODIFIED:20260421T204325Z
UID:4592-1778929200-1778950800@leroysplace.com
SUMMARY:DJ Fronda at Powerhouse Community Day
DESCRIPTION:Join DJ Fronda at Powerhouse Arts for a day of discovery and creative expression featuring hands-on workshops\, demonstrations\, installations\, and conversations with a wide array of partner organizations\, artists\, and educators. This family friendly all-ages event takes place across three floors in the purpose-built art-making facility. \n\n\n\nFronda will be activated all day long for photo ops and high-fives\, and stayed tuned for the official DJ Fronda performance time! \n\n\n\nPowerhouse Arts Community Day is free and open to the public. 11:00am-5:00pm (doors close at 4:30pm)322 3rd Avenue Brooklyn\, NY 11215
URL:https://leroysplace.com/event/dj-fronda-at-powerhouse-community-day/
ATTACH;FMTTYPE=image/png:https://leroysplace.com/wp-content/uploads/2026/04/Screenshot-2026-04-20-at-9.00.11-PM.png
END:VEVENT
BEGIN:VEVENT
DTSTART;TZID=America/New_York:20260517T100000
DTEND;TZID=America/New_York:20260517T120000
DTSTAMP:20260423T123621
CREATED:20260422T182847Z
LAST-MODIFIED:20260422T182849Z
UID:4601-1779012000-1779019200@leroysplace.com
SUMMARY:Dungeons & Dragons: "Make a Monster"
DESCRIPTION:Join Snail Tales Adventures and Leroy’s Place as we create fantastic monsters and explore the Nevergreen Forest! \n\n\n\nSunday\, May 17th: 10am-12pm“Make A Monster” workshop on May 17th will give kids the opportunity to develop a unique D&D character inspired by both D & D character sheets and the Leroy’s Place monster design worksheet. Facilitators will help kids realize their monster by making an articulated flat paper puppet to take home… or bring back on the 31st to adventure with! \n\n\n\nSunday\, May 31st: 10am-12pm“Play Your Monster”will be a site-specific D&D campaign\, where kiddos will bring their character to life by adventuring through the world of Leroy’s Place and encountering the monsters that live there. Meet a Ralf\, and chat with the trees in the mysterious Nevergreen forest! \n\n\n\nAges 7-11\, space is limited!
URL:https://leroysplace.com/event/dungeons-dragons-make-a-monster/
ATTACH;FMTTYPE=image/png:https://leroysplace.com/wp-content/uploads/2026/04/LPPoster7.png
END:VEVENT
BEGIN:VEVENT
DTSTART;TZID=America/New_York:20260530T160000
DTEND;TZID=America/New_York:20260530T200000
DTSTAMP:20260423T123621
CREATED:20260421T204604Z
LAST-MODIFIED:20260422T022104Z
UID:4597-1780156800-1780171200@leroysplace.com
SUMMARY:First Courtyard Party of the Season!
DESCRIPTION:It’s our First Courtyard Party of the season in Brooklyn! Featuring DJ Fronda plus all vinyl sets by Psychic Records\, Birbal\, & The Vinyl Historian
URL:https://leroysplace.com/event/first-courtyard-party-of-the-season/
LOCATION:leroy’s place brooklyn\, 353 7th Avenue\, Brooklyn\, NY\, 11215\, United States
ATTACH;FMTTYPE=image/jpeg:https://leroysplace.com/wp-content/uploads/2026/04/CourtyardPartyFLyer_May2026.jpg
END:VEVENT
BEGIN:VEVENT
DTSTART;TZID=America/New_York:20260531T100000
DTEND;TZID=America/New_York:20260531T120000
DTSTAMP:20260423T123621
CREATED:20260422T183122Z
LAST-MODIFIED:20260422T183621Z
UID:4603-1780221600-1780228800@leroysplace.com
SUMMARY:Dungeons & Dragons: "Play Your Monster"
DESCRIPTION:Join Snail Tales Adventures and Leroy’s Place as we create fantastic monsters and explore the Nevergreen Forest! \n\n\n\nSunday\, May 17th: 10am-12pm“Make A Monster” workshop on May 17th will give kids the opportunity to develop a unique D&D character inspired by both D & D character sheets and the Leroy’s Place monster design worksheet. Facilitators will help kids realize their monster by making an articulated flat paper puppet to take home… or bring back on the 31st to adventure with! \n\n\n\nSunday\, May 31st: 10am-12pm“Play Your Monster”will be a site-specific D&D campaign\, where kiddos will bring their character to life by adventuring through the world of Leroy’s Place and encountering the monsters that live there. Meet a Ralf\, and chat with the trees in the mysterious Nevergreen forest! \n\n\n\nAges 7-11\, space is limited!
URL:https://leroysplace.com/event/dungeons-dragons-play-your-monster/
ATTACH;FMTTYPE=image/png:https://leroysplace.com/wp-content/uploads/2026/04/LPPoster7.png
END:VEVENT
END:VCALENDAR