BEGIN:VCALENDAR
VERSION:2.0
PRODID:-//Leroy&#039;s Place - ECPv6.15.20//NONSGML v1.0//EN
CALSCALE:GREGORIAN
METHOD:PUBLISH
X-ORIGINAL-URL:https://leroysplace.com
X-WR-CALDESC:Events for Leroy&#039;s Place
REFRESH-INTERVAL;VALUE=DURATION:PT1H
X-Robots-Tag:noindex
X-PUBLISHED-TTL:PT1H
BEGIN:VTIMEZONE
TZID:America/New_York
BEGIN:DAYLIGHT
TZOFFSETFROM:-0500
TZOFFSETTO:-0400
TZNAME:EDT
DTSTART:20230312T070000
END:DAYLIGHT
BEGIN:STANDARD
TZOFFSETFROM:-0400
TZOFFSETTO:-0500
TZNAME:EST
DTSTART:20231105T060000
END:STANDARD
BEGIN:DAYLIGHT
TZOFFSETFROM:-0500
TZOFFSETTO:-0400
TZNAME:EDT
DTSTART:20240310T070000
END:DAYLIGHT
BEGIN:STANDARD
TZOFFSETFROM:-0400
TZOFFSETTO:-0500
TZNAME:EST
DTSTART:20241103T060000
END:STANDARD
BEGIN:DAYLIGHT
TZOFFSETFROM:-0500
TZOFFSETTO:-0400
TZNAME:EDT
DTSTART:20250309T070000
END:DAYLIGHT
BEGIN:STANDARD
TZOFFSETFROM:-0400
TZOFFSETTO:-0500
TZNAME:EST
DTSTART:20251102T060000
END:STANDARD
END:VTIMEZONE
BEGIN:VEVENT
DTSTART;VALUE=DATE:20240727
DTEND;VALUE=DATE:20240728
DTSTAMP:20260425T093938
CREATED:20240627T004320Z
LAST-MODIFIED:20240627T004544Z
UID:3043-1722038400-1722124799@leroysplace.com
SUMMARY:Vintage Pop Up  X East Village Vintage Collective
DESCRIPTION:Get ready for a fabulous vintage pop-up weekend! Join us on July 27th and 28th as our favorite vintage shop\, East Village Vintage Collective\, hosts special vendors in our courtyard. Discover unique\, one-of-a-kind treasures\, from great looks to quirky collectibles. Enjoy a lively atmosphere\, great company\, and exclusive finds that you won’t want to miss. Mark your calendars and come shop with us!
URL:https://leroysplace.com/event/vintage-pop-up-x-east-village-vintage-collective/
LOCATION:Leroy’s Place\, 353 7th Ave\, Brooklyn\, NY\, 11215\, United States
CATEGORIES:Brooklyn,Featured Events
ATTACH;FMTTYPE=image/jpeg:https://leroysplace.com/wp-content/uploads/2024/06/0.jpg
END:VEVENT
BEGIN:VEVENT
DTSTART;VALUE=DATE:20240728
DTEND;VALUE=DATE:20240729
DTSTAMP:20260425T093938
CREATED:20240727T133639Z
LAST-MODIFIED:20240727T133639Z
UID:3051-1722124800-1722211199@leroysplace.com
SUMMARY:Vintage Pop-Up X East Village Vintage
DESCRIPTION:Get ready for a fabulous vintage pop-up weekend! Join us on July 27th and 28th as our favorite vintage shop\, East Village Vintage Collective\, hosts special vendors in our courtyard. Discover unique\, one-of-a-kind treasures\, from great looks to quirky collectibles. Enjoy a lively atmosphere\, great company\, and exclusive finds that you won’t want to miss. Mark your calendars and come shop with us!
URL:https://leroysplace.com/event/vintage-pop-up-x-east-village-vintage/
LOCATION:NY
CATEGORIES:Brooklyn,Featured Events
ATTACH;FMTTYPE=image/jpeg:https://leroysplace.com/wp-content/uploads/2024/06/0.jpg
END:VEVENT
END:VCALENDAR