BEGIN:VCALENDAR
VERSION:2.0
PRODID:-//Leroy&#039;s Place - ECPv6.15.20//NONSGML v1.0//EN
CALSCALE:GREGORIAN
METHOD:PUBLISH
X-ORIGINAL-URL:https://leroysplace.com
X-WR-CALDESC:Events for Leroy&#039;s Place
REFRESH-INTERVAL;VALUE=DURATION:PT1H
X-Robots-Tag:noindex
X-PUBLISHED-TTL:PT1H
BEGIN:VTIMEZONE
TZID:America/New_York
BEGIN:DAYLIGHT
TZOFFSETFROM:-0500
TZOFFSETTO:-0400
TZNAME:EDT
DTSTART:20240310T070000
END:DAYLIGHT
BEGIN:STANDARD
TZOFFSETFROM:-0400
TZOFFSETTO:-0500
TZNAME:EST
DTSTART:20241103T060000
END:STANDARD
BEGIN:DAYLIGHT
TZOFFSETFROM:-0500
TZOFFSETTO:-0400
TZNAME:EDT
DTSTART:20250309T070000
END:DAYLIGHT
BEGIN:STANDARD
TZOFFSETFROM:-0400
TZOFFSETTO:-0500
TZNAME:EST
DTSTART:20251102T060000
END:STANDARD
BEGIN:DAYLIGHT
TZOFFSETFROM:-0500
TZOFFSETTO:-0400
TZNAME:EDT
DTSTART:20260308T070000
END:DAYLIGHT
BEGIN:STANDARD
TZOFFSETFROM:-0400
TZOFFSETTO:-0500
TZNAME:EST
DTSTART:20261101T060000
END:STANDARD
END:VTIMEZONE
BEGIN:VEVENT
DTSTART;TZID=America/New_York:20250531T160000
DTEND;TZID=America/New_York:20250531T200000
DTSTAMP:20260422T204140
CREATED:20250421T234545Z
LAST-MODIFIED:20250527T174817Z
UID:3669-1748707200-1748721600@leroysplace.com
SUMMARY:Brooklyn Courtyard Party!
DESCRIPTION:Our Brooklyn Courtyard party series is back for the summer\, kicking off with this event that will be one of the only parties of the season! So don’t miss out! \nMusic from  4-8pm \, Free to enter
URL:https://leroysplace.com/event/brooklyn-courtyard-party/
LOCATION:Leroy’s Place\, 353 7th Ave\, Brooklyn\, NY\, 11215\, United States
CATEGORIES:Brooklyn,Featured Events
ATTACH;FMTTYPE=image/png:https://leroysplace.com/wp-content/uploads/2024/07/Screen-Shot-2024-08-19-at-10.42.46-AM.png
END:VEVENT
END:VCALENDAR