BEGIN:VCALENDAR
VERSION:2.0
PRODID:-//Leroy&#039;s Place - ECPv6.15.20//NONSGML v1.0//EN
CALSCALE:GREGORIAN
METHOD:PUBLISH
X-ORIGINAL-URL:https://leroysplace.com
X-WR-CALDESC:Events for Leroy&#039;s Place
REFRESH-INTERVAL;VALUE=DURATION:PT1H
X-Robots-Tag:noindex
X-PUBLISHED-TTL:PT1H
BEGIN:VTIMEZONE
TZID:America/New_York
BEGIN:DAYLIGHT
TZOFFSETFROM:-0500
TZOFFSETTO:-0400
TZNAME:EDT
DTSTART:20240310T070000
END:DAYLIGHT
BEGIN:STANDARD
TZOFFSETFROM:-0400
TZOFFSETTO:-0500
TZNAME:EST
DTSTART:20241103T060000
END:STANDARD
BEGIN:DAYLIGHT
TZOFFSETFROM:-0500
TZOFFSETTO:-0400
TZNAME:EDT
DTSTART:20250309T070000
END:DAYLIGHT
BEGIN:STANDARD
TZOFFSETFROM:-0400
TZOFFSETTO:-0500
TZNAME:EST
DTSTART:20251102T060000
END:STANDARD
BEGIN:DAYLIGHT
TZOFFSETFROM:-0500
TZOFFSETTO:-0400
TZNAME:EDT
DTSTART:20260308T070000
END:DAYLIGHT
BEGIN:STANDARD
TZOFFSETFROM:-0400
TZOFFSETTO:-0500
TZNAME:EST
DTSTART:20261101T060000
END:STANDARD
END:VTIMEZONE
BEGIN:VEVENT
DTSTART;TZID=America/New_York:20250403T180000
DTEND;TZID=America/New_York:20250403T233000
DTSTAMP:20260425T093824
CREATED:20250402T170824Z
LAST-MODIFIED:20250402T175058Z
UID:3591-1743703200-1743723000@leroysplace.com
SUMMARY:Leroy's Place at Frechmen Art Bazaar!
DESCRIPTION:Visit Leroy’s Place At Frenchmen Art Bazaar! Come shop all your favorite monster merch\, handmade art\, and quirky treasures. \nWe’re so excited to be back at the Frenchmen Art Bazaar — one of our favorite New Orleans hangs! This open-air night market is packed with amazing local artists\, handmade treasures\, and that signature Frenchmen Street vibe. Come browse\, shop\, and soak up the creative magic.
URL:https://leroysplace.com/event/leroys-place-at-frechmen-art-bazaar/
LOCATION:Frenchmen Art Bazaar\, 619 Frenchmen St\, New Orleans\, LA\, 70116\, United States
CATEGORIES:Featured Events,New Orleans
ATTACH;FMTTYPE=image/png:https://leroysplace.com/wp-content/uploads/2025/03/Screen-Shot-2025-03-18-at-3.55.59-PM.png
END:VEVENT
BEGIN:VEVENT
DTSTART;TZID=America/New_York:20250404T170000
DTEND;TZID=America/New_York:20250404T200000
DTSTAMP:20260425T093824
CREATED:20250325T201336Z
LAST-MODIFIED:20250325T201337Z
UID:3575-1743786000-1743796800@leroysplace.com
SUMMARY:Royal Street Art Walk: First Friday
DESCRIPTION:First Fridays is coming to Royal Street! Take a stroll\, soak up the art\, and then come visit us at Leroy’s Place! We’re keeping the party going with tunes\, drinks\, and extended hours so you can shop\, sip\, and hang late into the night. Swing by\, say hi\, and let’s make it a legendary Leroy’s kind of night!
URL:https://leroysplace.com/event/royal-street-art-walk-first-friday/
CATEGORIES:Featured Events,New Orleans
ATTACH;FMTTYPE=image/jpeg:https://leroysplace.com/wp-content/uploads/2025/03/first-friday.jpg
END:VEVENT
BEGIN:VEVENT
DTSTART;TZID=America/New_York:20250405T180000
DTEND;TZID=America/New_York:20250405T233000
DTSTAMP:20260425T093824
CREATED:20250402T171136Z
LAST-MODIFIED:20250402T175215Z
UID:3593-1743876000-1743895800@leroysplace.com
SUMMARY:Leroy's Place at Frenchmen Art Bazaar!
DESCRIPTION:Visit Leroy’s Place At Frenchmen Art Bazaar! Come shop all your favorite monster merch\, handmade art\, and quirky treasures. \nWe’re so excited to be back at the Frenchmen Art Bazaar — one of our favorite New Orleans hangs! This open-air night market is packed with amazing local artists\, handmade treasures\, and that signature Frenchmen Street vibe. Come browse\, shop\, and soak up the creative magic.
URL:https://leroysplace.com/event/leroys-place-at-frenchmen-art-bazaar/
LOCATION:Frenchmen Art Bazaar\, 619 Frenchmen St\, New Orleans\, LA\, 70116\, United States
CATEGORIES:Featured Events,New Orleans
ATTACH;FMTTYPE=image/png:https://leroysplace.com/wp-content/uploads/2025/03/Screen-Shot-2025-03-18-at-3.55.59-PM.png
END:VEVENT
BEGIN:VEVENT
DTSTART;TZID=America/New_York:20250410T180000
DTEND;TZID=America/New_York:20250410T233000
DTSTAMP:20260425T093824
CREATED:20250402T171526Z
LAST-MODIFIED:20250402T175312Z
UID:3595-1744308000-1744327800@leroysplace.com
SUMMARY:Leroy's Place at Frenchmen Art Bazaar
DESCRIPTION:Visit Leroy’s Place At Frenchmen Art Bazaar! Come shop all your favorite monster merch\, handmade art\, and quirky treasures. \nWe’re so excited to be back at the Frenchmen Art Bazaar — one of our favorite New Orleans hangs! This open-air night market is packed with amazing local artists\, handmade treasures\, and that signature Frenchmen Street vibe. Come browse\, shop\, and soak up the creative magic.
URL:https://leroysplace.com/event/leroys-place-at-frenchmen-art-bazaar-2/
LOCATION:Frenchmen Art Bazaar\, 619 Frenchmen St\, New Orleans\, LA\, 70116\, United States
CATEGORIES:Featured Events,New Orleans
ATTACH;FMTTYPE=image/png:https://leroysplace.com/wp-content/uploads/2025/03/Screen-Shot-2025-03-18-at-3.55.59-PM.png
END:VEVENT
BEGIN:VEVENT
DTSTART;TZID=America/New_York:20250411T180000
DTEND;TZID=America/New_York:20250411T233000
DTSTAMP:20260425T093824
CREATED:20250402T182224Z
LAST-MODIFIED:20250402T182226Z
UID:3601-1744394400-1744414200@leroysplace.com
SUMMARY:Fronda Activation + Market Pop-Up at Frenchmen Art Bazaar!
DESCRIPTION:Visit Leroy’s Place At Frenchmen Art Bazaar! Come shop all your favorite monster merch\, handmade art\, and quirky treasures. Plus\, we’ve got a special treat this time…Fronda will be making an appearance selling her personal merch and posing for a photo op and meet & greet! \nWe’re so excited to be back at the Frenchmen Art Bazaar — one of our favorite New Orleans hangs! This open-air night market is packed with amazing local artists\, handmade treasures\, and that signature Frenchmen Street vibe. Come browse\, shop\, and soak up the creative magic.
URL:https://leroysplace.com/event/fronda-activation-market-pop-up-at-frenchmen-art-bazaar/
LOCATION:Frenchmen Art Bazaar\, 619 Frenchmen St\, New Orleans\, LA\, 70116\, United States
CATEGORIES:Featured Events,New Orleans
ATTACH;FMTTYPE=image/png:https://leroysplace.com/wp-content/uploads/2025/04/Screen-Shot-2025-03-13-at-12.42.26-PM.png
END:VEVENT
BEGIN:VEVENT
DTSTART;TZID=America/New_York:20250412T180000
DTEND;TZID=America/New_York:20250412T233000
DTSTAMP:20260425T093824
CREATED:20250402T182515Z
LAST-MODIFIED:20250402T182516Z
UID:3612-1744480800-1744500600@leroysplace.com
SUMMARY:Fronda Activation + Market Pop-Up at Frenchmen Art Bazaar!
DESCRIPTION:Visit Leroy’s Place At Frenchmen Art Bazaar! Come shop all your favorite monster merch\, handmade art\, and quirky treasures. Plus\, we’ve got a special treat this time…Fronda will be making an appearance selling her personal merch and posing for a photo op and meet & greet! \nWe’re so excited to be back at the Frenchmen Art Bazaar — one of our favorite New Orleans hangs! This open-air night market is packed with amazing local artists\, handmade treasures\, and that signature Frenchmen Street vibe. Come browse\, shop\, and soak up the creative magic.
URL:https://leroysplace.com/event/fronda-activation-market-pop-up-at-frenchmen-art-bazaar-2/
CATEGORIES:Featured Events,New Orleans
ATTACH;FMTTYPE=image/png:https://leroysplace.com/wp-content/uploads/2025/04/Screen-Shot-2025-03-13-at-12.42.26-PM.png
END:VEVENT
BEGIN:VEVENT
DTSTART;TZID=America/New_York:20250417T180000
DTEND;TZID=America/New_York:20250417T233000
DTSTAMP:20260425T093824
CREATED:20250402T172021Z
LAST-MODIFIED:20250402T180513Z
UID:3597-1744912800-1744932600@leroysplace.com
SUMMARY:Leroy's Place at Frechmen Art Bazaar!
DESCRIPTION:Visit Leroy’s Place At Frenchmen Art Bazaar! Come shop all your favorite monster merch\, handmade art\, and quirky treasures. \nWe’re so excited to be back at the Frenchmen Art Bazaar — one of our favorite New Orleans hangs! This open-air night market is packed with amazing local artists\, handmade treasures\, and that signature Frenchmen Street vibe. Come browse\, shop\, and soak up the creative magic.
URL:https://leroysplace.com/event/shop-leroys-place-at-frechmen-art-bazaar/
CATEGORIES:Featured Events,New Orleans
ATTACH;FMTTYPE=image/png:https://leroysplace.com/wp-content/uploads/2025/03/Screen-Shot-2025-03-18-at-3.55.59-PM.png
END:VEVENT
BEGIN:VEVENT
DTSTART;TZID=America/New_York:20250418T180000
DTEND;TZID=America/New_York:20250418T233000
DTSTAMP:20260425T093824
CREATED:20250402T172315Z
LAST-MODIFIED:20250402T175749Z
UID:3599-1744999200-1745019000@leroysplace.com
SUMMARY:Leroy's Place at Frenchmen Art Bazaar!
DESCRIPTION:Visit Leroy’s Place At Frenchmen Art Bazaar! Come shop all your favorite monster merch\, handmade art\, and quirky treasures. \nWe’re so excited to be back at the Frenchmen Art Bazaar — one of our favorite New Orleans hangs! This open-air night market is packed with amazing local artists\, handmade treasures\, and that signature Frenchmen Street vibe. Come browse\, shop\, and soak up the creative magic.
URL:https://leroysplace.com/event/leroys-place-at-frenchmen-art-bazaar-3/
LOCATION:Frenchmen Art Bazaar\, 619 Frenchmen St\, New Orleans\, LA\, 70116\, United States
CATEGORIES:Featured Events,New Orleans
ATTACH;FMTTYPE=image/png:https://leroysplace.com/wp-content/uploads/2025/03/Screen-Shot-2025-03-18-at-3.55.59-PM.png
END:VEVENT
BEGIN:VEVENT
DTSTART;TZID=America/New_York:20250425T180000
DTEND;TZID=America/New_York:20250425T233000
DTSTAMP:20260425T093824
CREATED:20250402T182800Z
LAST-MODIFIED:20250402T182801Z
UID:3614-1745604000-1745623800@leroysplace.com
SUMMARY:Fronda Activation + Market Pop-Up at Frenchmen Art Bazaar!
DESCRIPTION:Visit Leroy’s Place At Frenchmen Art Bazaar! Come shop all your favorite monster merch\, handmade art\, and quirky treasures. Plus\, we’ve got a special treat this time…Fronda will be making an appearance selling her personal merch and posing for a photo op and meet & greet! \nWe’re so excited to be back at the Frenchmen Art Bazaar — one of our favorite New Orleans hangs! This open-air night market is packed with amazing local artists\, handmade treasures\, and that signature Frenchmen Street vibe. Come browse\, shop\, and soak up the creative magic.
URL:https://leroysplace.com/event/fronda-activation-market-pop-up-at-frenchmen-art-bazaar-3/
CATEGORIES:Featured Events,New Orleans
ATTACH;FMTTYPE=image/png:https://leroysplace.com/wp-content/uploads/2025/04/Screen-Shot-2025-03-13-at-12.42.26-PM.png
END:VEVENT
BEGIN:VEVENT
DTSTART;TZID=America/New_York:20250426T180000
DTEND;TZID=America/New_York:20250426T233000
DTSTAMP:20260425T093824
CREATED:20250402T183059Z
LAST-MODIFIED:20250421T165913Z
UID:3616-1745690400-1745710200@leroysplace.com
SUMMARY:Leroy's Place Market Pop-Up at Frenchmen Art Bazaar!
DESCRIPTION:Visit Leroy’s Place At Frenchmen Art Bazaar! Come shop all your favorite monster merch\, handmade art\, and quirky treasures. \nWe’re so excited to be back at the Frenchmen Art Bazaar — one of our favorite New Orleans hangs! This open-air night market is packed with amazing local artists\, handmade treasures\, and that signature Frenchmen Street vibe. Come browse\, shop\, and soak up the creative magic.
URL:https://leroysplace.com/event/fronda-activation-market-pop-up-at-frenchmen-art-bazaar-4/
LOCATION:Frenchmen Art Bazaar\, 619 Frenchmen St\, New Orleans\, LA\, 70116\, United States
CATEGORIES:Featured Events,New Orleans
ATTACH;FMTTYPE=image/png:https://leroysplace.com/wp-content/uploads/2025/03/Screen-Shot-2025-03-18-at-3.55.59-PM.png
END:VEVENT
END:VCALENDAR