BEGIN:VCALENDAR
VERSION:2.0
PRODID:-//Leroy&#039;s Place - ECPv6.15.20//NONSGML v1.0//EN
CALSCALE:GREGORIAN
METHOD:PUBLISH
X-WR-CALNAME:Leroy&#039;s Place
X-ORIGINAL-URL:https://leroysplace.com
X-WR-CALDESC:Events for Leroy&#039;s Place
REFRESH-INTERVAL;VALUE=DURATION:PT1H
X-Robots-Tag:noindex
X-PUBLISHED-TTL:PT1H
BEGIN:VTIMEZONE
TZID:America/New_York
BEGIN:DAYLIGHT
TZOFFSETFROM:-0500
TZOFFSETTO:-0400
TZNAME:EDT
DTSTART:20230312T070000
END:DAYLIGHT
BEGIN:STANDARD
TZOFFSETFROM:-0400
TZOFFSETTO:-0500
TZNAME:EST
DTSTART:20231105T060000
END:STANDARD
BEGIN:DAYLIGHT
TZOFFSETFROM:-0500
TZOFFSETTO:-0400
TZNAME:EDT
DTSTART:20240310T070000
END:DAYLIGHT
BEGIN:STANDARD
TZOFFSETFROM:-0400
TZOFFSETTO:-0500
TZNAME:EST
DTSTART:20241103T060000
END:STANDARD
BEGIN:DAYLIGHT
TZOFFSETFROM:-0500
TZOFFSETTO:-0400
TZNAME:EDT
DTSTART:20250309T070000
END:DAYLIGHT
BEGIN:STANDARD
TZOFFSETFROM:-0400
TZOFFSETTO:-0500
TZNAME:EST
DTSTART:20251102T060000
END:STANDARD
END:VTIMEZONE
BEGIN:VEVENT
DTSTART;TZID=America/New_York:20240907T160000
DTEND;TZID=America/New_York:20240907T200000
DTSTAMP:20260422T110915
CREATED:20240730T142217Z
LAST-MODIFIED:20240821T000416Z
UID:3058-1725724800-1725739200@leroysplace.com
SUMMARY:Monthly Mixer - Join Us For Our Last Mixer of the Season!
DESCRIPTION:Join us for the last Leroy’s Place Monthly Mixer of the summer season–an evening of music\, mysticism\, and community! Experience the rich\, nostalgic sounds of all-vinyl DJ sets curated by The Vinyl Historian\, the esteemed host of the popular music podcast\, The Needle and Groove Lounge. Special guest DJ Birbal will also be spinning\, bringing a unique blend of beats to the night. \nArrive early to take advantage of an exclusive tarot reading session with local Park Slope tarot expert Brooke Powers\, available from 6:30-8:00 PM. \nAs always\, we’ll have a selection of delicious snacks and beverages available all evening!
URL:https://leroysplace.com/event/monthly-mixer-join-us-for-our-last-mixer-of-the-season/
LOCATION:Leroy’s Place\, 353 7th Ave\, Brooklyn\, NY\, 11215\, United States
CATEGORIES:Brooklyn,Featured Events
ATTACH;FMTTYPE=image/png:https://leroysplace.com/wp-content/uploads/2024/07/Screen-Shot-2024-08-20-at-7.51.06-PM.png
END:VEVENT
END:VCALENDAR