BEGIN:VCALENDAR
VERSION:2.0
PRODID:-//Leroy&#039;s Place - ECPv6.15.20//NONSGML v1.0//EN
CALSCALE:GREGORIAN
METHOD:PUBLISH
X-ORIGINAL-URL:https://leroysplace.com
X-WR-CALDESC:Events for Leroy&#039;s Place
REFRESH-INTERVAL;VALUE=DURATION:PT1H
X-Robots-Tag:noindex
X-PUBLISHED-TTL:PT1H
BEGIN:VTIMEZONE
TZID:America/New_York
BEGIN:DAYLIGHT
TZOFFSETFROM:-0500
TZOFFSETTO:-0400
TZNAME:EDT
DTSTART:20240310T070000
END:DAYLIGHT
BEGIN:STANDARD
TZOFFSETFROM:-0400
TZOFFSETTO:-0500
TZNAME:EST
DTSTART:20241103T060000
END:STANDARD
BEGIN:DAYLIGHT
TZOFFSETFROM:-0500
TZOFFSETTO:-0400
TZNAME:EDT
DTSTART:20250309T070000
END:DAYLIGHT
BEGIN:STANDARD
TZOFFSETFROM:-0400
TZOFFSETTO:-0500
TZNAME:EST
DTSTART:20251102T060000
END:STANDARD
BEGIN:DAYLIGHT
TZOFFSETFROM:-0500
TZOFFSETTO:-0400
TZNAME:EDT
DTSTART:20260308T070000
END:DAYLIGHT
BEGIN:STANDARD
TZOFFSETFROM:-0400
TZOFFSETTO:-0500
TZNAME:EST
DTSTART:20261101T060000
END:STANDARD
END:VTIMEZONE
BEGIN:VEVENT
DTSTART;TZID=America/New_York:20250508T180000
DTEND;TZID=America/New_York:20250508T233000
DTSTAMP:20260422T204022
CREATED:20250507T010426Z
LAST-MODIFIED:20250507T010453Z
UID:3736-1746727200-1746747000@leroysplace.com
SUMMARY:Leroy's Place at Frechmen Art Bazaar!
DESCRIPTION:Visit Leroy’s Place At Frenchmen Art Bazaar! Come shop all your favorite monster merch\, handmade art\, and quirky treasures. \nWe’re so excited to be back at the Frenchmen Art Bazaar — one of our favorite New Orleans hangs! This open-air night market is packed with amazing local artists\, handmade treasures\, and that signature Frenchmen Street vibe. Come browse\, shop\, and soak up the creative magic.
URL:https://leroysplace.com/event/leroys-place-at-frechmen-art-bazaar-2/
LOCATION:Frenchmen Art Bazaar\, 619 Frenchmen St\, New Orleans\, LA\, 70116\, United States
CATEGORIES:Featured Events,New Orleans
ATTACH;FMTTYPE=image/png:https://leroysplace.com/wp-content/uploads/2025/03/Screen-Shot-2025-03-18-at-3.55.59-PM.png
END:VEVENT
END:VCALENDAR